BEGIN:VCALENDAR
VERSION:2.0
PRODID:-//flyreddeer.com - ECPv6.15.17.1//NONSGML v1.0//EN
CALSCALE:GREGORIAN
METHOD:PUBLISH
X-WR-CALNAME:flyreddeer.com
X-ORIGINAL-URL:https://www.flyreddeer.com
X-WR-CALDESC:Events for flyreddeer.com
REFRESH-INTERVAL;VALUE=DURATION:PT1H
X-Robots-Tag:noindex
X-PUBLISHED-TTL:PT1H
BEGIN:VTIMEZONE
TZID:America/Edmonton
BEGIN:DAYLIGHT
TZOFFSETFROM:-0700
TZOFFSETTO:-0600
TZNAME:MDT
DTSTART:20240310T090000
END:DAYLIGHT
BEGIN:STANDARD
TZOFFSETFROM:-0600
TZOFFSETTO:-0700
TZNAME:MST
DTSTART:20241103T080000
END:STANDARD
BEGIN:DAYLIGHT
TZOFFSETFROM:-0700
TZOFFSETTO:-0600
TZNAME:MDT
DTSTART:20250309T090000
END:DAYLIGHT
BEGIN:STANDARD
TZOFFSETFROM:-0600
TZOFFSETTO:-0700
TZNAME:MST
DTSTART:20251102T080000
END:STANDARD
BEGIN:DAYLIGHT
TZOFFSETFROM:-0700
TZOFFSETTO:-0600
TZNAME:MDT
DTSTART:20260308T090000
END:DAYLIGHT
BEGIN:STANDARD
TZOFFSETFROM:-0600
TZOFFSETTO:-0700
TZNAME:MST
DTSTART:20261101T080000
END:STANDARD
END:VTIMEZONE
BEGIN:VEVENT
DTSTART;VALUE=DATE:20250530
DTEND;VALUE=DATE:20250601
DTSTAMP:20260420T115145
CREATED:20250306T162022Z
LAST-MODIFIED:20250326T104905Z
UID:8217-1748563200-1748735999@www.flyreddeer.com
SUMMARY:Props & Pistons
DESCRIPTION:Get ready for an action-packed weekend as Props & Pistons makes its highly anticipated return to Red Deer Regional Airport! \nFriday\, May 30 Kick off the weekend with a Drive-in Movie Night\, perfect for the whole family. \nSaturday\, May 31 – The Props & Pistons Show & Shine opens at 10 AM\, featuring an incredible lineup of static aircraft displays and show-stopping automobiles from across the region. \nStay tuned for more event details\, including sponsorship opportunities\, vendor and food truck sign-ups\, participant registration\, spectator information\, volunteer opportunities\, and more! \nDon’t miss out—mark your calendars and follow our Facebook event page for updates. We can’t wait to see you there! \n\nRegistration for Autos & Aircrafts now open! \nAutos – bit.ly/PP_AutoReg\nAircrafts – bit.ly/PP_AircraftReg
URL:https://www.flyreddeer.com/event/props-pistons/
LOCATION:Red Deer Regional Airport\, 3800 Airport Drive\, Springbrook\, AB\, T4S 0E2\, Canada
CATEGORIES:Upcoming Events
END:VEVENT
END:VCALENDAR