BEGIN:VCALENDAR
VERSION:2.0
PRODID:-//flyreddeer.com - ECPv6.15.17.1//NONSGML v1.0//EN
CALSCALE:GREGORIAN
METHOD:PUBLISH
X-WR-CALNAME:flyreddeer.com
X-ORIGINAL-URL:https://www.flyreddeer.com
X-WR-CALDESC:Events for flyreddeer.com
REFRESH-INTERVAL;VALUE=DURATION:PT1H
X-Robots-Tag:noindex
X-PUBLISHED-TTL:PT1H
BEGIN:VTIMEZONE
TZID:America/Edmonton
BEGIN:DAYLIGHT
TZOFFSETFROM:-0700
TZOFFSETTO:-0600
TZNAME:MDT
DTSTART:20220313T090000
END:DAYLIGHT
BEGIN:STANDARD
TZOFFSETFROM:-0600
TZOFFSETTO:-0700
TZNAME:MST
DTSTART:20221106T080000
END:STANDARD
BEGIN:DAYLIGHT
TZOFFSETFROM:-0700
TZOFFSETTO:-0600
TZNAME:MDT
DTSTART:20230312T090000
END:DAYLIGHT
BEGIN:STANDARD
TZOFFSETFROM:-0600
TZOFFSETTO:-0700
TZNAME:MST
DTSTART:20231105T080000
END:STANDARD
BEGIN:DAYLIGHT
TZOFFSETFROM:-0700
TZOFFSETTO:-0600
TZNAME:MDT
DTSTART:20240310T090000
END:DAYLIGHT
BEGIN:STANDARD
TZOFFSETFROM:-0600
TZOFFSETTO:-0700
TZNAME:MST
DTSTART:20241103T080000
END:STANDARD
END:VTIMEZONE
BEGIN:VTIMEZONE
TZID:UTC
BEGIN:STANDARD
TZOFFSETFROM:+0000
TZOFFSETTO:+0000
TZNAME:UTC
DTSTART:20210101T000000
END:STANDARD
END:VTIMEZONE
BEGIN:VEVENT
DTSTART;TZID=America/Edmonton:20230510T163000
DTEND;TZID=America/Edmonton:20230510T173000
DTSTAMP:20260422T183537
CREATED:20230414T195329Z
LAST-MODIFIED:20230414T195329Z
UID:7586-1683736200-1683739800@www.flyreddeer.com
SUMMARY:Annual Public Meeting
DESCRIPTION:
URL:https://www.flyreddeer.com/event/annual-public-meeting-2/
LOCATION:Red Deer Regional Airport FBO Terminal\, 3800 Airport Drive\, Springbrook\, Alberta\, T45 ZE8\, Canada
ORGANIZER;CN="Red Deer Regional Airport Authority":MAILTO:n.paish@flyreddeer.com
END:VEVENT
BEGIN:VEVENT
DTSTART;TZID=America/Edmonton:20230507T080000
DTEND;TZID=America/Edmonton:20230507T110000
DTSTAMP:20260422T183537
CREATED:20230414T200907Z
LAST-MODIFIED:20230414T200907Z
UID:7589-1683446400-1683457200@www.flyreddeer.com
SUMMARY:Red Deer Flying Club Pancake Breakfast
DESCRIPTION:
URL:https://www.flyreddeer.com/event/red-deer-flying-club-pancake-breakfast/
LOCATION:AB
END:VEVENT
BEGIN:VEVENT
DTSTART;TZID=UTC:20220518T160000
DTEND;TZID=UTC:20220518T170000
DTSTAMP:20260422T183537
CREATED:20220512T175630Z
LAST-MODIFIED:20220512T175630Z
UID:7242-1652889600-1652893200@www.flyreddeer.com
SUMMARY:Annual Public Meeting
DESCRIPTION:
URL:https://www.flyreddeer.com/event/annual-public-meeting/
LOCATION:AB
ORGANIZER;CN="Red Deer Regional Airport Authority":MAILTO:n.paish@flyreddeer.com
END:VEVENT
BEGIN:VEVENT
DTSTART;TZID=UTC:20220321T193000
DTEND;TZID=UTC:20220321T210000
DTSTAMP:20260422T183537
CREATED:20220222T110510Z
LAST-MODIFIED:20220222T111004Z
UID:5125-1647891000-1647896400@www.flyreddeer.com
SUMMARY:Red Deer Flying Club Meeting
DESCRIPTION:For over seven decades a Red Deer Flying Club has been active and instrumental in promoting general aviation in Central Alberta. The first Red Deer Aero Club was formed in 1930 with the objective of establishing an airport in this community. The Red Deer Flying Club shall help foster and promote General Aviation in the Central Alberta area. Anyone can join the club. You don’t have to be a pilot or own an aircraft. Join us for a meeting every third Monday of the month\, 7:30 PM at the RDFC Clubhouse\, North of the Terminal Building.
URL:https://www.flyreddeer.com/event/red-deer-flying-club-meeting/
LOCATION:Red Deer Regional Airport FBO Terminal\, 3800 Airport Drive\, Springbrook\, Alberta\, T45 ZE8\, Canada
CATEGORIES:Upcoming Events
ATTACH;FMTTYPE=image/png:https://www.flyreddeer.com/wp-content/uploads/2022/01/Red-Deer-Regional-Airport-9.png
END:VEVENT
END:VCALENDAR