BEGIN:VCALENDAR
VERSION:2.0
PRODID:-//flyreddeer.com - ECPv6.15.17.1//NONSGML v1.0//EN
CALSCALE:GREGORIAN
METHOD:PUBLISH
X-WR-CALNAME:flyreddeer.com
X-ORIGINAL-URL:https://www.flyreddeer.com
X-WR-CALDESC:Events for flyreddeer.com
REFRESH-INTERVAL;VALUE=DURATION:PT1H
X-Robots-Tag:noindex
X-PUBLISHED-TTL:PT1H
BEGIN:VTIMEZONE
TZID:America/Edmonton
BEGIN:DAYLIGHT
TZOFFSETFROM:-0700
TZOFFSETTO:-0600
TZNAME:MDT
DTSTART:20240310T090000
END:DAYLIGHT
BEGIN:STANDARD
TZOFFSETFROM:-0600
TZOFFSETTO:-0700
TZNAME:MST
DTSTART:20241103T080000
END:STANDARD
BEGIN:DAYLIGHT
TZOFFSETFROM:-0700
TZOFFSETTO:-0600
TZNAME:MDT
DTSTART:20250309T090000
END:DAYLIGHT
BEGIN:STANDARD
TZOFFSETFROM:-0600
TZOFFSETTO:-0700
TZNAME:MST
DTSTART:20251102T080000
END:STANDARD
BEGIN:DAYLIGHT
TZOFFSETFROM:-0700
TZOFFSETTO:-0600
TZNAME:MDT
DTSTART:20260308T090000
END:DAYLIGHT
BEGIN:STANDARD
TZOFFSETFROM:-0600
TZOFFSETTO:-0700
TZNAME:MST
DTSTART:20261101T080000
END:STANDARD
END:VTIMEZONE
BEGIN:VEVENT
DTSTART;TZID=America/Edmonton:20250920T110000
DTEND;TZID=America/Edmonton:20250920T160000
DTSTAMP:20260420T072417
CREATED:20250617T223550Z
LAST-MODIFIED:20250617T223616Z
UID:8406-1758366000-1758384000@www.flyreddeer.com
SUMMARY:Girls in Aviation Day 2025
DESCRIPTION:Girls in Aviation Day
URL:https://www.flyreddeer.com/event/girls-in-aviation-day-2025/
LOCATION:Red Deer Regional Airport\, 3800 Airport Drive\, Springbrook\, AB\, T4S 0E2\, Canada
ORGANIZER;CN="Red Deer Regional Airport Authority":MAILTO:n.paish@flyreddeer.com
END:VEVENT
END:VCALENDAR